BEGIN:VCALENDAR
VERSION:2.0
PRODID:-//MACY’s Genealogical Research - ECPv6.15.20//NONSGML v1.0//EN
CALSCALE:GREGORIAN
METHOD:PUBLISH
X-ORIGINAL-URL:https://macysgenealogy.com
X-WR-CALDESC:Events for MACY’s Genealogical Research
REFRESH-INTERVAL;VALUE=DURATION:PT1H
X-Robots-Tag:noindex
X-PUBLISHED-TTL:PT1H
BEGIN:VTIMEZONE
TZID:America/New_York
BEGIN:DAYLIGHT
TZOFFSETFROM:-0500
TZOFFSETTO:-0400
TZNAME:EDT
DTSTART:20250309T070000
END:DAYLIGHT
BEGIN:STANDARD
TZOFFSETFROM:-0400
TZOFFSETTO:-0500
TZNAME:EST
DTSTART:20251102T060000
END:STANDARD
BEGIN:DAYLIGHT
TZOFFSETFROM:-0500
TZOFFSETTO:-0400
TZNAME:EDT
DTSTART:20260308T070000
END:DAYLIGHT
BEGIN:STANDARD
TZOFFSETFROM:-0400
TZOFFSETTO:-0500
TZNAME:EST
DTSTART:20261101T060000
END:STANDARD
BEGIN:DAYLIGHT
TZOFFSETFROM:-0500
TZOFFSETTO:-0400
TZNAME:EDT
DTSTART:20270314T070000
END:DAYLIGHT
BEGIN:STANDARD
TZOFFSETFROM:-0400
TZOFFSETTO:-0500
TZNAME:EST
DTSTART:20271107T060000
END:STANDARD
END:VTIMEZONE
BEGIN:VEVENT
DTSTART;TZID=America/New_York:20260528T110000
DTEND;TZID=America/New_York:20260715T233000
DTSTAMP:20260423T163828
CREATED:20260413T190113Z
LAST-MODIFIED:20260413T190113Z
UID:2595-1779966000-1784158200@macysgenealogy.com
SUMMARY:Cousin America has Run Off with a Presbyterian Parson: How the Scots-Irish Influenced the Founding of a Nation
DESCRIPTION:Few groups who defined the revolutionary generation left as distinctive a mark as the Scots-Irish. This pre-recorded session for the 2026 National Genealogical Conference identifies a people who helped shape the nation. This session will be available to view on May 28\, 2026 at\n11:15 AM and will remain viewable to all NGS Conference attendees (virtual and in person) until 15 July\, 2026.
URL:https://macysgenealogy.com/event/cousin-america-has-run-off-with-a-presbyterian-parson/
END:VEVENT
BEGIN:VEVENT
DTSTART;TZID=America/New_York:20260718T093000
DTEND;TZID=America/New_York:20260718T153000
DTSTAMP:20260423T163828
CREATED:20260413T194932Z
LAST-MODIFIED:20260413T194932Z
UID:2603-1784367000-1784388600@macysgenealogy.com
SUMMARY:67th Ligonier Highland Games
DESCRIPTION:Vitist the Genealogy Booth\, hosted by Megan Clark Young of MACY’s Genelogical Research\, at the Ligonier Highland Games.This year\, the Games will be held in July at Idlewild Park. Preorder discounted tickets here.
URL:https://macysgenealogy.com/event/67th-ligonier-highland-games/
LOCATION:Idlewild Park\, 2574 US Route 30\, Ligonier\, PA\, 15658
END:VEVENT
END:VCALENDAR