BEGIN:VCALENDAR
VERSION:2.0
PRODID:-//MACY’s Genealogical Research - ECPv6.15.20//NONSGML v1.0//EN
CALSCALE:GREGORIAN
METHOD:PUBLISH
X-ORIGINAL-URL:https://macysgenealogy.com
X-WR-CALDESC:Events for MACY’s Genealogical Research
REFRESH-INTERVAL;VALUE=DURATION:PT1H
X-Robots-Tag:noindex
X-PUBLISHED-TTL:PT1H
BEGIN:VTIMEZONE
TZID:America/Chicago
BEGIN:DAYLIGHT
TZOFFSETFROM:-0600
TZOFFSETTO:-0500
TZNAME:CDT
DTSTART:20250309T080000
END:DAYLIGHT
BEGIN:STANDARD
TZOFFSETFROM:-0500
TZOFFSETTO:-0600
TZNAME:CST
DTSTART:20251102T070000
END:STANDARD
BEGIN:DAYLIGHT
TZOFFSETFROM:-0600
TZOFFSETTO:-0500
TZNAME:CDT
DTSTART:20260308T080000
END:DAYLIGHT
BEGIN:STANDARD
TZOFFSETFROM:-0500
TZOFFSETTO:-0600
TZNAME:CST
DTSTART:20261101T070000
END:STANDARD
BEGIN:DAYLIGHT
TZOFFSETFROM:-0600
TZOFFSETTO:-0500
TZNAME:CDT
DTSTART:20270314T080000
END:DAYLIGHT
BEGIN:STANDARD
TZOFFSETFROM:-0500
TZOFFSETTO:-0600
TZNAME:CST
DTSTART:20271107T070000
END:STANDARD
END:VTIMEZONE
BEGIN:VTIMEZONE
TZID:America/Los_Angeles
BEGIN:DAYLIGHT
TZOFFSETFROM:-0800
TZOFFSETTO:-0700
TZNAME:PDT
DTSTART:20250309T100000
END:DAYLIGHT
BEGIN:STANDARD
TZOFFSETFROM:-0700
TZOFFSETTO:-0800
TZNAME:PST
DTSTART:20251102T090000
END:STANDARD
BEGIN:DAYLIGHT
TZOFFSETFROM:-0800
TZOFFSETTO:-0700
TZNAME:PDT
DTSTART:20260308T100000
END:DAYLIGHT
BEGIN:STANDARD
TZOFFSETFROM:-0700
TZOFFSETTO:-0800
TZNAME:PST
DTSTART:20261101T090000
END:STANDARD
BEGIN:DAYLIGHT
TZOFFSETFROM:-0800
TZOFFSETTO:-0700
TZNAME:PDT
DTSTART:20270314T100000
END:DAYLIGHT
BEGIN:STANDARD
TZOFFSETFROM:-0700
TZOFFSETTO:-0800
TZNAME:PST
DTSTART:20271107T090000
END:STANDARD
END:VTIMEZONE
BEGIN:VEVENT
DTSTART;VALUE=DATE:20261010
DTEND;VALUE=DATE:20261011
DTSTAMP:20260423T200228
CREATED:20250827T202730Z
LAST-MODIFIED:20250827T202730Z
UID:2542-1791590400-1791676799@macysgenealogy.com
SUMMARY:Witchita Genealogical Society Annual Conference
DESCRIPTION:Megan Clark Young will be the keynote speaker and give four presentations for the Witchita Genealogical Society\, focusing on the the 250th Anniversary of the United States.
URL:https://macysgenealogy.com/event/witchita-genealogical-society-annual-conference/
LOCATION:Wichita Genealogical Society
END:VEVENT
BEGIN:VEVENT
DTSTART;TZID=America/Los_Angeles:20261212T100000
DTEND;TZID=America/Los_Angeles:20261212T110000
DTSTAMP:20260423T200228
CREATED:20260413T200823Z
LAST-MODIFIED:20260413T200823Z
UID:2606-1797069600-1797073200@macysgenealogy.com
SUMMARY:Beyond the Search Bar: Navigating Ancestry.com Effectively
DESCRIPTION:This session introduces practical strategies for navigating Ancestry.com beyond the basic search bar. Attendees will learn how to use the Card Catalog to target specific record sets\, apply effective search filters\, interpret database details\, and uncover collections that don’t surface in standard searches. Additional tips and tricks will help researchers get better results\, avoid common pitfalls\, and make the most of Ancestry’s powerful tools for genealogical discovery. This is a virtual event for the Jefferson Co. (WA) Genealogical Society.
URL:https://macysgenealogy.com/event/beyond-the-search-bar-navigating-ancestry-com-effectively/
LOCATION:PA
END:VEVENT
END:VCALENDAR