BEGIN:VCALENDAR
VERSION:2.0
PRODID:-//MACY’s Genealogical Research - ECPv6.15.20//NONSGML v1.0//EN
CALSCALE:GREGORIAN
METHOD:PUBLISH
X-WR-CALNAME:MACY’s Genealogical Research
X-ORIGINAL-URL:https://macysgenealogy.com
X-WR-CALDESC:Events for MACY’s Genealogical Research
REFRESH-INTERVAL;VALUE=DURATION:PT1H
X-Robots-Tag:noindex
X-PUBLISHED-TTL:PT1H
BEGIN:VTIMEZONE
TZID:America/New_York
BEGIN:DAYLIGHT
TZOFFSETFROM:-0500
TZOFFSETTO:-0400
TZNAME:EDT
DTSTART:20220313T070000
END:DAYLIGHT
BEGIN:STANDARD
TZOFFSETFROM:-0400
TZOFFSETTO:-0500
TZNAME:EST
DTSTART:20221106T060000
END:STANDARD
BEGIN:DAYLIGHT
TZOFFSETFROM:-0500
TZOFFSETTO:-0400
TZNAME:EDT
DTSTART:20230312T070000
END:DAYLIGHT
BEGIN:STANDARD
TZOFFSETFROM:-0400
TZOFFSETTO:-0500
TZNAME:EST
DTSTART:20231105T060000
END:STANDARD
BEGIN:DAYLIGHT
TZOFFSETFROM:-0500
TZOFFSETTO:-0400
TZNAME:EDT
DTSTART:20240310T070000
END:DAYLIGHT
BEGIN:STANDARD
TZOFFSETFROM:-0400
TZOFFSETTO:-0500
TZNAME:EST
DTSTART:20241103T060000
END:STANDARD
END:VTIMEZONE
BEGIN:VEVENT
DTSTART;TZID=America/New_York:20230608T183000
DTEND;TZID=America/New_York:20230608T193000
DTSTAMP:20260425T074350
CREATED:20230426T175502Z
LAST-MODIFIED:20230427T135857Z
UID:2054-1686249000-1686252600@macysgenealogy.com
SUMMARY:So You Took a DNA Test . . . Now What?
DESCRIPTION:Millions of people across the world have taken a commercial DNA test. Many\, overwhelmed with their thousands and thousands of matches\, don’t know what to do after they get their results.  Learn best practices to get the most out of your DNA results and match list. This event is In-Person at the Peoples Libary in Lower Burerrell\, PA.
URL:https://macysgenealogy.com/event/so-you-took-a-dna-test-now-what/
LOCATION:Peoples Library\, 3052 Wachter Ave.\, New Kensington\, PA\, 15068\, United States
END:VEVENT
BEGIN:VEVENT
DTSTART;TZID=America/New_York:20230603T143000
DTEND;TZID=America/New_York:20230603T153000
DTSTAMP:20260425T074350
CREATED:20230426T181446Z
LAST-MODIFIED:20230427T135936Z
UID:2067-1685802600-1685806200@macysgenealogy.com
SUMMARY:He Wasn’t a Captain! Strategies to Correct Myths and Mistakes Using Modern Methods
DESCRIPTION:National Genealogy Society Conference \nSession Number: S348 \nGenealogists frequently encounter myths and mistakes during research\, often without even realizing it. In the digital age\, it is especially easy for incorrect information to proliferate. From conflated records for same-named people to records created intentionally to mislead\, responsible genealogists must do their best to identify incorrect information and set the record straight. In this session\, Megan discusses how to recognize and correct a myth or mistake using the Genealogical Proof Standard (GPS).1 She shares creative strategies for sharing your written findings both with others who may fall into the trap of the same incorrect information and to a wider and/or future audience. \nThis is in-person. Registration for the conference is required. \n1. Board for Certification of Genealogists\, Genealogy Standards\, 2nd ed. (Nashville\, Tenn.: Ancestry Imprint\, Turner Publishing Co.\, 2019)\, 1-3.
URL:https://macysgenealogy.com/event/he-wasnt-a-captain-strategies-to-correct-myths-and-mistakes/
LOCATION:Greater Richmond Convention Center\, 403 N 3rd St.\, Richmond\, VA\, 23219\, United States
END:VEVENT
BEGIN:VEVENT
DTSTART;TZID=America/New_York:20230602T080000
DTEND;TZID=America/New_York:20230602T090000
DTSTAMP:20260425T074350
CREATED:20230426T180759Z
LAST-MODIFIED:20230426T180832Z
UID:2062-1685692800-1685696400@macysgenealogy.com
SUMMARY:Squatters on George Washington’s Land — Pennsylvania and Virginia’s Overlapping Colonial Land Claims
DESCRIPTION:National Genealogical Society Conference \nSession Number: F204 \nLong before significant settlement occurred in present-day western Pennsylvania\, the French\, British\, and Native Americans claimed the land west of the Allegheny Mountains. Even among the British\, boundary disputes between Pennsylvania and Virginia lasted until 1780\, affecting settlers in the modern Pennsylvania counties of Greene\, Fayette\, Washington\, Westmoreland\, and Allegheny. In this session\, Megan discusses the series of events that led to this dispute. She explains how this led to competing parallel governments\, court systems\, and land offices that were established in the same jurisdiction\, often resulting in duplicate land claims. Megan shares\, as an illustration\, an ejectment suit brought by Gen. George Washington against a group of twelve “squatters” (two of whom are Megan’s ancestors). She also shows where to find the pertinent records. \nThis is In-Person. Registration to the NGS Conference is required.
URL:https://macysgenealogy.com/event/pennsylvania-and-virginia-land-disputes/
LOCATION:Greater Richmond Convention Center\, 403 N 3rd St.\, Richmond\, VA\, 23219\, United States
END:VEVENT
END:VCALENDAR