BEGIN:VCALENDAR
VERSION:2.0
PRODID:-//MACY’s Genealogical Research - ECPv6.15.20//NONSGML v1.0//EN
CALSCALE:GREGORIAN
METHOD:PUBLISH
X-ORIGINAL-URL:https://macysgenealogy.com
X-WR-CALDESC:Events for MACY’s Genealogical Research
REFRESH-INTERVAL;VALUE=DURATION:PT1H
X-Robots-Tag:noindex
X-PUBLISHED-TTL:PT1H
BEGIN:VTIMEZONE
TZID:America/New_York
BEGIN:DAYLIGHT
TZOFFSETFROM:-0500
TZOFFSETTO:-0400
TZNAME:EDT
DTSTART:20240310T070000
END:DAYLIGHT
BEGIN:STANDARD
TZOFFSETFROM:-0400
TZOFFSETTO:-0500
TZNAME:EST
DTSTART:20241103T060000
END:STANDARD
BEGIN:DAYLIGHT
TZOFFSETFROM:-0500
TZOFFSETTO:-0400
TZNAME:EDT
DTSTART:20250309T070000
END:DAYLIGHT
BEGIN:STANDARD
TZOFFSETFROM:-0400
TZOFFSETTO:-0500
TZNAME:EST
DTSTART:20251102T060000
END:STANDARD
BEGIN:DAYLIGHT
TZOFFSETFROM:-0500
TZOFFSETTO:-0400
TZNAME:EDT
DTSTART:20260308T070000
END:DAYLIGHT
BEGIN:STANDARD
TZOFFSETFROM:-0400
TZOFFSETTO:-0500
TZNAME:EST
DTSTART:20261101T060000
END:STANDARD
END:VTIMEZONE
BEGIN:VEVENT
DTSTART;TZID=America/New_York:20250910T190000
DTEND;TZID=America/New_York:20250910T203000
DTSTAMP:20260424T010743
CREATED:20250826T211633Z
LAST-MODIFIED:20250826T211633Z
UID:2531-1757530800-1757536200@macysgenealogy.com
SUMMARY:WPGS Pennsylviania Virtual SIG - Lineage Societies
DESCRIPTION:Our theme in September is the 250th Anniversary of the State of Pennsylvania within these United States of America in 2026. Pennsylvania was first a Colony before the War for Independence\, and many records were created during these early years that can help you to locate your earliest Pennsylvania family members. \nJoin Megan Clark Young in Breakout Room 1 to learn more about the First Families of Western Pennsylvania lineage society and applying to lineage socities in general. \nThis event is for WPGS members only. Join Today!
URL:https://macysgenealogy.com/event/wpgs-pennsylviania-virtual-sig-lineage-societies/
LOCATION:Western Pennsylvania Genealogical Society
END:VEVENT
END:VCALENDAR