BEGIN:VCALENDAR
VERSION:2.0
PRODID:-//MACY’s Genealogical Research - ECPv6.15.20//NONSGML v1.0//EN
CALSCALE:GREGORIAN
METHOD:PUBLISH
X-ORIGINAL-URL:https://macysgenealogy.com
X-WR-CALDESC:Events for MACY’s Genealogical Research
REFRESH-INTERVAL;VALUE=DURATION:PT1H
X-Robots-Tag:noindex
X-PUBLISHED-TTL:PT1H
BEGIN:VTIMEZONE
TZID:America/New_York
BEGIN:DAYLIGHT
TZOFFSETFROM:-0500
TZOFFSETTO:-0400
TZNAME:EDT
DTSTART:20230312T070000
END:DAYLIGHT
BEGIN:STANDARD
TZOFFSETFROM:-0400
TZOFFSETTO:-0500
TZNAME:EST
DTSTART:20231105T060000
END:STANDARD
BEGIN:DAYLIGHT
TZOFFSETFROM:-0500
TZOFFSETTO:-0400
TZNAME:EDT
DTSTART:20240310T070000
END:DAYLIGHT
BEGIN:STANDARD
TZOFFSETFROM:-0400
TZOFFSETTO:-0500
TZNAME:EST
DTSTART:20241103T060000
END:STANDARD
BEGIN:DAYLIGHT
TZOFFSETFROM:-0500
TZOFFSETTO:-0400
TZNAME:EDT
DTSTART:20250309T070000
END:DAYLIGHT
BEGIN:STANDARD
TZOFFSETFROM:-0400
TZOFFSETTO:-0500
TZNAME:EST
DTSTART:20251102T060000
END:STANDARD
END:VTIMEZONE
BEGIN:VEVENT
DTSTART;TZID=America/New_York:20240227T183000
DTEND;TZID=America/New_York:20240227T193000
DTSTAMP:20260425T092657
CREATED:20240212T184245Z
LAST-MODIFIED:20240212T184245Z
UID:2250-1709058600-1709062200@macysgenealogy.com
SUMMARY:Peopling Pennsylvania: Exploring Scots-Irish Ancestors
DESCRIPTION:Join us to learn about the settlers who became known as the Scots-Irish\, from the historical context and migration patterns that brought them to America\, to their role in Pennsylvania’s settlement. We’ll discuss some of the unique challenges and learn effective research strategies to uncover records\, including military\, court\, and church records. Don’t miss this opportunity to connect with your heritage and delve deeper into the lives of your Scots-Irish ancestors! \nVirtual. Free for HSP members\, $10 General Public
URL:https://macysgenealogy.com/event/peopling-pennsylvania-exploring-scots-irish-ancestors/
END:VEVENT
END:VCALENDAR