BEGIN:VCALENDAR
VERSION:2.0
PRODID:-//MACY’s Genealogical Research - ECPv6.15.20//NONSGML v1.0//EN
CALSCALE:GREGORIAN
METHOD:PUBLISH
X-WR-CALNAME:MACY’s Genealogical Research
X-ORIGINAL-URL:https://macysgenealogy.com
X-WR-CALDESC:Events for MACY’s Genealogical Research
REFRESH-INTERVAL;VALUE=DURATION:PT1H
X-Robots-Tag:noindex
X-PUBLISHED-TTL:PT1H
BEGIN:VTIMEZONE
TZID:America/New_York
BEGIN:DAYLIGHT
TZOFFSETFROM:-0500
TZOFFSETTO:-0400
TZNAME:EDT
DTSTART:20230312T070000
END:DAYLIGHT
BEGIN:STANDARD
TZOFFSETFROM:-0400
TZOFFSETTO:-0500
TZNAME:EST
DTSTART:20231105T060000
END:STANDARD
BEGIN:DAYLIGHT
TZOFFSETFROM:-0500
TZOFFSETTO:-0400
TZNAME:EDT
DTSTART:20240310T070000
END:DAYLIGHT
BEGIN:STANDARD
TZOFFSETFROM:-0400
TZOFFSETTO:-0500
TZNAME:EST
DTSTART:20241103T060000
END:STANDARD
BEGIN:DAYLIGHT
TZOFFSETFROM:-0500
TZOFFSETTO:-0400
TZNAME:EDT
DTSTART:20250309T070000
END:DAYLIGHT
BEGIN:STANDARD
TZOFFSETFROM:-0400
TZOFFSETTO:-0500
TZNAME:EST
DTSTART:20251102T060000
END:STANDARD
END:VTIMEZONE
BEGIN:VEVENT
DTSTART;TZID=America/New_York:20240214T190000
DTEND;TZID=America/New_York:20240214T200000
DTSTAMP:20260425T111031
CREATED:20240212T182818Z
LAST-MODIFIED:20240212T182818Z
UID:2243-1707937200-1707940800@macysgenealogy.com
SUMMARY:Squatters on George Washington’s Land—Pennsylvania and Virginia’s Overlapping Colonial Land Disputes
DESCRIPTION:Learn the history of the land dispute between Pennsylvania and Virginia\, including an ejectment suit by the most famous man in America.
URL:https://macysgenealogy.com/event/squatters-on-george-washingtons-land-pennsylvania-and-virginias-overlapping-colonial-land-disputes/
LOCATION:Virginia Genealogical Society
END:VEVENT
END:VCALENDAR